BEGIN:VCALENDAR
PRODID:-//Events at Ball State University//NONSGML ical.net 4.0//EN
VERSION:2.0
BEGIN:VEVENT
DESCRIPTION:Ball State University Event\n\nCelebrate 116 years of Ball Sta
 te Nursing at the Nursing Alumni Reunion on Saturday\, May 16.\n\nContact
 : Gary Huey - iubucknshado@gmail.com
DTEND:20260517T003000Z
DTSTAMP:20260421T212513Z
DTSTART:20260516T210000Z
LOCATION:Alumni Center
SEQUENCE:0
SUMMARY:Nursing Alumni Reunion and Alumni Awards
UID:bb4df894-d5a9-4d77-a915-c429410e231e
URL:https://www.bsu.edu/calendar/events/administrative/alumni-association/
 2026/5/16/nursing-reunion
END:VEVENT
END:VCALENDAR
