BEGIN:VCALENDAR
PRODID:-//Events at Ball State University//NONSGML ical.net 4.0//EN
VERSION:2.0
BEGIN:VEVENT
DESCRIPTION:Ball State University Event\n\nRegister to learn more about Ba
 ll State's online Master's in Educational Administration and Supervision 
 and Principal's license.\n\nContact: Michelle Jones - mejones@bsu.edu
DTEND:20260701T230000Z
DTSTAMP:20260419T233735Z
DTSTART:20260701T220000Z
SEQUENCE:0
SUMMARY:Online MAE in Educational Administration and Supervision Webinar
UID:1ef1b3fe-3fc5-45b8-b1a8-b065326064e9
URL:https://www.bsu.edu/calendar/events/admissions/graduate-information-se
 ssions/2026/7/1/online-mae-in-educational-administration-and-supervision-
 webinar
END:VEVENT
END:VCALENDAR
