BEGIN:VCALENDAR
PRODID:-//Events at Ball State University//NONSGML ical.net 4.0//EN
VERSION:2.0
BEGIN:VEVENT
DESCRIPTION:Ball State University Event\n\nJoin fellow alumni leaders for 
 a day dedicated to championing the value of a Ball State degree. Through 
 expert insights and collaborative storytelling\, we'll explore how your v
 oice can elevate the University's reputation and inspire pride across our
  communities.\n\nContact: Kate Webber - kwebber@bsu.edu
DTEND:20260612T220000Z
DTSTAMP:20260421T212512Z
DTSTART:20260612T123000Z
LOCATION:Alumni Center
SEQUENCE:0
SUMMARY:Alumni Volunteer Symposium
UID:fa040044-6e41-4b9d-b234-36abbb9b3e3b
URL:https://www.bsu.edu/calendar/events/administrative/alumni-association/
 2026/6/12/alumni-volunteer-symposium
END:VEVENT
END:VCALENDAR
