BEGIN:VCALENDAR
PRODID:-//Events at Ball State University//NONSGML ical.net 4.0//EN
VERSION:2.0
BEGIN:VEVENT
DESCRIPTION:Ball State University Event\n\n7:00 p.m. | Emens Auditorium
DTEND:20260428T020000Z
DTSTAMP:20260422T221958Z
DTSTART:20260427T230000Z
LOCATION:Emens Auditorium
SEQUENCE:0
SUMMARY:Menopause the Musical 2: Cruising Through 'The Change'
UID:947ccf35-05b2-4310-b549-f48b9c62e180
URL:https://www.bsu.edu/calendar/events/emens/emens-auditorium/2026/04/27/
 menopause-the-musical-2
END:VEVENT
BEGIN:VEVENT
DESCRIPTION:Ball State University Event\n\n6:30 p.m. | Emens Auditorium
DTEND:20261114T013000Z
DTSTAMP:20260422T221958Z
DTSTART:20261113T233000Z
IMAGE:URI\;DISPLAY=BADGE\,THUMBNAIL\,GRAPHIC\;FMTTYPE=image/jpeg:https://w
 ww.bsu.edu/-/media/www/images/events/emens/2025-2026/credit---courtesy-of
 -michael-penn-_-pbs.jpg?sc_lang=en
LOCATION:Emens Auditorium
SEQUENCE:0
SUMMARY:Wild Kratts LIVE 2.0 – Activate Creature Power®
UID:c05d1e0f-6556-4fa2-96eb-8cc463609637
URL:https://www.bsu.edu/calendar/events/emens/emens-auditorium/2026/11/13/
 wild-kratts-live
END:VEVENT
END:VCALENDAR
