BEGIN:VCALENDAR
PRODID:-//Events at Ball State University//NONSGML ical.net 4.0//EN
VERSION:2.0
BEGIN:VEVENT
DESCRIPTION:Ball State University Event\n\nSee 4 Pop Performance Lab bands
  perform at Pruis Hall!
DTEND:20260427T013000Z
DTSTAMP:20260424T134304Z
DTSTART:20260426T233000Z
LOCATION:Pruis Hall
SEQUENCE:0
SUMMARY:Pop Performance Lab
UID:e6e089f4-41e9-4e99-b9db-df6ac319decc
URL:https://www.bsu.edu/calendar/events/academics/school-of-music/2026/04/
 26/pop-performance-lab
END:VEVENT
END:VCALENDAR
