BEGIN:VCALENDAR
PRODID:-//Events at Ball State University//NONSGML ical.net 4.0//EN
VERSION:2.0
BEGIN:VEVENT
DESCRIPTION:Ball State University Event\n\nNikolas Fisher is a clarinet st
 udent of Elisha Willinger. This event is free and open to the public.
DTEND:20260427T230000Z
DTSTAMP:20260424T112047Z
DTSTART:20260427T213000Z
LOCATION:Hahn Recital Hall
SEQUENCE:0
SUMMARY:Senior Recital: Nikolas Fisher\, clarinet
UID:7318ffe1-88d4-4f2b-9411-37acc15f0f28
URL:https://www.bsu.edu/calendar/events/academics/school-of-music/2026/04/
 27/senior-recital-nikolas-fisher
END:VEVENT
END:VCALENDAR
