BEGIN:VCALENDAR
PRODID:-//Events at Ball State University//NONSGML ical.net 4.0//EN
VERSION:2.0
BEGIN:VEVENT
DESCRIPTION:Ball State University Event\n\nThinking about studying in the 
 United States? Start here.\n\nJoin Ball State University at the Education
 USA Virtual Fair to explore your academic options and learn what makes Ba
 ll State a strong choice for your future.
DTEND:20260421T190000Z
DTSTAMP:20260420T005952Z
DTSTART:20260421T130000Z
SEQUENCE:0
SUMMARY:EducationUSA Virtual College Fair for Sub-Saharan Africa
UID:46303e8b-4d52-47b7-8e2e-90f1fbad3a4a
URL:https://www.bsu.edu/calendar/events/admissions/graduate-information-se
 ssions/2026/4/21/educationusa-virtual-college-fair-for-sub-saharan-africa
END:VEVENT
END:VCALENDAR
