BEGIN:VCALENDAR
PRODID:-//Events at Ball State University//NONSGML ical.net 4.0//EN
VERSION:2.0
BEGIN:VEVENT
DESCRIPTION:Ball State University Event\n\nSee 4 Pop Performance Lab bands
  perform at Be Here Now!
DTEND:20260426T030000Z
DTSTAMP:20260425T140202Z
DTSTART:20260426T010000Z
LOCATION:Be Here Now
SEQUENCE:0
SUMMARY:Pop Performance Lab
UID:67a6eb7b-1a6e-4785-8307-89babb7552cb
URL:https://www.bsu.edu/calendar/events/academics/school-of-music/2026/04/
 25/pop-performance-lab
END:VEVENT
END:VCALENDAR
