BEGIN:VCALENDAR
PRODID:-//Events at Ball State University//NONSGML ical.net 4.0//EN
VERSION:2.0
BEGIN:VEVENT
DESCRIPTION:Ball State University Event\n\nJoin Justin Garing for a recita
 l in Pruis Hall. This event is free and open to the public.
DTEND:20260429T010000Z
DTSTAMP:20260424T122533Z
DTSTART:20260428T233000Z
LOCATION:Pruis Hall
SEQUENCE:0
SUMMARY:Senior Recital: Justin Garing
UID:979dcb31-7036-4e77-bc02-04641709163d
URL:https://www.bsu.edu/calendar/events/academics/school-of-music/2026/04/
 28/copy-of-senior-recital-nikolas-fisher
END:VEVENT
END:VCALENDAR
