BEGIN:VCALENDAR
PRODID:-//Events at Ball State University//NONSGML ical.net 4.0//EN
VERSION:2.0
BEGIN:VEVENT
DESCRIPTION:Ball State University Event\n\nCalling all First - and Second-
 Year students!  Come celebrate the end of the semester and get ready to l
 evel up for next year!\n\nContact: First Year Experience - ksnorris@bsu.e
 du - 765-285-5479
DTEND:20260422T170000Z
DTSTAMP:20260421T223215Z
DTSTART:20260422T150000Z
LOCATION:University Green
SEQUENCE:0
SUMMARY:Level Up Event
UID:a87a3571-670e-437e-9651-8f740ea99d10
URL:https://www.bsu.edu/calendar/events/administrative/university-college/
 2023/april-17/level-up
END:VEVENT
END:VCALENDAR
